Workbook

Sheet Introduction
B1: West Sussex whole setting approach to emotional wellbeing and mental health audit and planning tool
B8: Setting Name:
B9: Lead Educator for Emotional Wellbeing
B10: Name of others involved (to aid succession planning)
B11: Contact email address
B14: Date completed
B17: Thank you to Brighton and Hove for allowing us to use their Whole Setting Approach to Emotional, Mental Health and Wellbeing spreadsheet format.
B21: This tool is designed to help and support you with your whole setting approach to emotional wellbeing and mental health. It looks at each of the eight principles of a whole setting approach and asks questions about each area. Questions refer to both staff wellbeing and children's wellbeing. By completing the questions you should be able to identify what's working well with your whole setting approach and any areas you would like to develop. 1. Use the traffic light scaling to score each question from 1 to 5 (yellow questions section). Which number/descriptor best describes where you are? Use the OFSTED page for reference. 2. Your scores will populate the spidergramme (green section) which will also include the overall score for each of the eight principles. You can detail any evidence or ideas about what's in place already in the outcomes by area section. 3. Finally, you can think about your next steps and develop your action plan. Please talk this through with the MHST, advisory teacher and setting support team if you need to.
B34: Some useful resources include: Mentally Heathy settings, Anna Freud Early Years In Mind

Sheet Questions
B2: Questions
B6: Leadership & Management | M6: =SUM(M8:M11)/4 -> 0
B8: 1. Within our management structure, we have a named person with responsibility for emotional wellbeing and mental health.
B9: 2. The named lead for emotional wellbeing in the setting is well supported by the managers, including by being given appropriate protected time and status. There is succession and continuity planning in place for the role.
B10: 3. Setting managers model positive behaviours and attitudes which promote emotional wellbeing and mental health.
B11: 4. Emotional wellbeing and mental health are considered and referenced in setting improvement plans, policies, and the curriculum. There is a clear graduated response strategy in place at a universal, targeted, and individual level.
B13: Ethos & Environment | M13: =SUM(M14:M17)/4 -> 0
B14: 1. The ethos and physical environment of the setting is designed to support positive emotional wellbeing and challenge any attitudes/behaviours that undermine this culture.
B15: 2. The setting's policies and practice - including those related to diversity, inclusion and supporting behaviour development - reflect the daily experience of the whole setting community.
B16: 3. The setting promotes a sense of community: it is safe and welcoming and it reinforces the importance of belonging, contribution and relationships. It values inclusion and celebrates diversity.
B17: 4. We clearly signpost wellbeing support, and staff and children all know how to access support and are encouraged to ask for help for their emotional wellbeing and mental health.
B19: Curriculum, teaching & learning | M19: =SUM(M20:M23)/4 -> 0
B20: 1. We provide meaningful learning opportunities to promote emotional wellbeing and positive mental health. There is explicit teaching of social and emotional skills across all ages and the impact of learning is monitored.
B21: 2. Staff receive training and support to help them to deliver the emotional wellbeing and mental health curriculum.
B22: 3. Our curriculum promotes emotional wellbeing and mental health at an appropriate level for children's stage of development as part of its universal provision. The curriculum is bespoke to the needs of the whole setting community.
B23: 4. We utilise other educators to support and extend our teaching and learning beyond the universal provision e.g. West Sussex Setting Support Teams, Healthy Child Programme, Early Help, Speech and Language Setting Support etc.
B25: Child's Voice | M25: =SUM(M26:M29)/4 -> 0
B26: 1. All children in our setting have daily opportunities to give feedback and have their voices heard and valued.
B27: 2. We have planned opportunities to ask children for their views which impact on decision making (e.g. group time discussions and wider initiatives to include all children).
B28: 3. The child's voice impacts setting life and is evidenced in the curriculum, resources and environment. The child's voice influences the setting's policies.
B29: 4. We are proactive in gaining the views of children who may not otherwise have their voices heard, including those who are non-verbal or use alternative forms of communciation.
B31: Staff Development | M31: =SUM(M32:M35)/4 -> 0
B32: 1. Staff wellbeing and mental health are highly valued and actively promoted. We regularly monitor staff emotional wellbeing and mental health, and respond appropriately.
B33: 2. Staff involved in emotional wellbeing and mental health provision are suitably trained and are aware of appropriate resources. The lead educator shares plans, policies, and resources and disseminates their learning to ensure a smooth succession process if/when required.
B34: 3. Staff have access to regular supervision, peer-support, or other supportive forum where they are able to explore their experiences without judgment, reflect on their practice and acknowledge the emotional impact of the work.
B35: 4. All staff have the opportunity to participate in high quality continuous professional development.
B37: Identifying need and monitoring impact | M37: =SUM(M38:M41)/4 -> 0
B38: 1. We regularly monitor child emotional wellbeing and mental health, and respond effectively to the outcomes.
B39: 2. Identified children access appropriate support where needed, and at the earliest opportunity.
B40: 3. Support for children is routinely monitored to assess impact and inform next steps.
B41: 4. We know our families well and understand their backgrounds. We understand the factors which can make children more vulnerable and we address these vulnerabilities. We identify, and are proactive about supporting, children to manage challenging situations e.g. transitions, changes at home and in the setting etc.
B43: Parents & Carers | M43: =SUM(M44:M47)/4 -> 0
B44: 1. Parents and carers are provided with regular information about children's emotional wellbeing and mental health, and also how to access services and support.
B45: 2. Parents and carers have opportunities to engage with activities which will help to improve their understanding of emotional wellbeing and mental health.
B46: 3. Parents and carers are involved in any interventions or support offered to their child concerning their emotional wellbeing and mental health, as appropriate.
B47: 4. We recognise the skills and knowledge parents bring when it comes to their child's emotional wellbeing and mental health, and regularly ask for their feedback on the setting's wellbeing provision and act on the results.
B49: Targeted support | M49: =SUM(M50:M53)/4 -> 0
B50: 1. Children and parents feel confident to ask for help when they need it. The setting knows how to respond effectively to concerns raised and can access targeted support when needed.
B51: 2. All staff have knowledge of common mental health concerns and can recognise warning signs that a child/family may need targeted support. They understand the importance of listening to children and are comfortable speaking to children and their families about sensitive subjects and their emotional wellbeing, whilst following safeguarding policies.
B52: 3. The setting has a range of strategies available within their universal inclusive practice to support children, and the impact of this support is monitored for impact and effectiveness. In addition, the setting is confident to deliver additional support to those that need it.
B53: 4. All staff are aware of West Sussex guidance and toolkits, including the "My Wellbeing" Audit Tool, Anna Freud Early Years in Mind, Beacon House, Safety Plans, the West Sussex Self-Harm Guidance, the West Sussex Responding to an Unexpected Death Toolkit, and The Sussex Eating Difficulties

Sheet Diagnosis MHST
A2: EMHWB Action plan position for
A5: Leadership & Management | D5: =Questions!M6 -> 0
A6: Ethos & Environment | D6: =Questions!M13 -> 0
A7: Curriculum, teaching & learning | D7: =Questions!M19 -> 0
A8: Child (CYP) Voice | D8: =Questions!M25 -> 0
A9: Staff Development | D9: =Questions!M31 -> 0
A10: Identifying need and monitoring impact | D10: =Questions!M37 -> 0
A11: Parents & Carers | D11: =Questions!M43 -> 0
A12: Targeted support | D12: =Questions!M49 -> 0

Sheet Outcomes by area
B5: Eight principles | H5: Self - Score | J5: Starting Point | L5: What's in place already? | R5: What needs to be developed?
Z6: 1 | AA6: Activity not yet started
B7: Leadership & Management | H7: {='Diagnosis MHST'!D5:E5} -> 0 | I7: 0 | J7: =IF(H7=0,"No Data",VLOOKUP(ROUNDDOWN(H7,0),$Z$6:$AA$10,2,FALSE)) -> No Data | L7: =IF(ISNA(VLOOKUP(B7&J7,'Coaching Questions'!$D$8:$F$47,2,FALSE)),"",VLOOKUP(B7&J7,'Coaching Questions'!$D$8:$F$47,2,FALSE)) | R7: =IF(ISNA(VLOOKUP(B7&J7,'Coaching Questions'!$D$8:$F$47,3,FALSE)),"",VLOOKUP(B7&J7,'Coaching Questions'!$D$8:$F$47,3,FALSE)) | Z7: 2 | AA7: Becoming aware and identifying as an area to develop
B8: Ethos & Environment | H8: {='Diagnosis MHST'!D6:E6} -> 0 | I8: 0 | J8: =IF(H8=0,"No Data",VLOOKUP(ROUNDDOWN(H8,0),$Z$6:$AA$10,2,FALSE)) -> No Data | R8: =IF(ISNA(VLOOKUP(B8&J8,'Coaching Questions'!$D$8:$F$47,3,FALSE)),"",VLOOKUP(B8&J8,'Coaching Questions'!$D$8:$F$47,3,FALSE)) | Z8: 3 | AA8: Creating plan of action and commencing implementation
B9: Curriculum, teaching & learning | H9: {='Diagnosis MHST'!D7:E7} -> 0 | I9: 0 | J9: =IF(H9=0,"No Data",VLOOKUP(ROUNDDOWN(H9,0),$Z$6:$AA$10,2,FALSE)) -> No Data | L9: =IF(ISNA(VLOOKUP(B9&J9,'Coaching Questions'!$D$8:$F$47,2,FALSE)),"",VLOOKUP(B9&J9,'Coaching Questions'!$D$8:$F$47,2,FALSE)) | R9: =IF(ISNA(VLOOKUP(B9&J9,'Coaching Questions'!$D$8:$F$47,3,FALSE)),"",VLOOKUP(B9&J9,'Coaching Questions'!$D$8:$F$47,3,FALSE)) | Z9: 4 | AA9: Developing practice and embedding across the setting
B10: Student (CYP) Voice | H10: {='Diagnosis MHST'!D8:E8} -> 0 | I10: 0 | J10: =IF(H10=0,"No Data",VLOOKUP(ROUNDDOWN(H10,0),$Z$6:$AA$10,2,FALSE)) -> No Data | L10: =IF(ISNA(VLOOKUP(B10&J10,'Coaching Questions'!$D$8:$F$47,2,FALSE)),"",VLOOKUP(B10&J10,'Coaching Questions'!$D$8:$F$47,2,FALSE)) | R10: =IF(ISNA(VLOOKUP(B10&J10,'Coaching Questions'!$D$8:$F$47,3,FALSE)),"",VLOOKUP(B10&J10,'Coaching Questions'!$D$8:$F$47,3,FALSE)) | Z10: 5 | AA10: Effective practice in place and ready to share
B11: Staff Development | H11: {='Diagnosis MHST'!D9:E9} -> 0 | I11: 0 | J11: =IF(H11=0,"No Data",VLOOKUP(ROUNDDOWN(H11,0),$Z$6:$AA$10,2,FALSE)) -> No Data | L11: =IF(ISNA(VLOOKUP(B11&J11,'Coaching Questions'!$D$8:$F$47,2,FALSE)),"",VLOOKUP(B11&J11,'Coaching Questions'!$D$8:$F$47,2,FALSE)) | R11: =IF(ISNA(VLOOKUP(B11&J11,'Coaching Questions'!$D$8:$F$47,3,FALSE)),"",VLOOKUP(B11&J11,'Coaching Questions'!$D$8:$F$47,3,FALSE))
B12: Identifying need and monitoring | H12: {='Diagnosis MHST'!D10:E10} -> 0 | I12: 0 | J12: =IF(H12=0,"No Data",VLOOKUP(ROUNDDOWN(H12,0),$Z$6:$AA$10,2,FALSE)) -> No Data | L12: =IF(ISNA(VLOOKUP(B12&J12,'Coaching Questions'!$D$8:$F$47,2,FALSE)),"",VLOOKUP(B12&J12,'Coaching Questions'!$D$8:$F$47,2,FALSE)) | R12: =IF(ISNA(VLOOKUP(B12&J12,'Coaching Questions'!$D$8:$F$47,3,FALSE)),"",VLOOKUP(B12&J12,'Coaching Questions'!$D$8:$F$47,3,FALSE))
B13: Parents & Carers | H13: {='Diagnosis MHST'!D11:E11} -> 0 | I13: 0 | J13: =IF(H13=0,"No Data",VLOOKUP(ROUNDDOWN(H13,0),$Z$6:$AA$10,2,FALSE)) -> No Data | L13: =IF(ISNA(VLOOKUP(B13&J13,'Coaching Questions'!$D$8:$F$47,2,FALSE)),"",VLOOKUP(B13&J13,'Coaching Questions'!$D$8:$F$47,2,FALSE)) | R13: =IF(ISNA(VLOOKUP(B13&J13,'Coaching Questions'!$D$8:$F$47,3,FALSE)),"",VLOOKUP(B13&J13,'Coaching Questions'!$D$8:$F$47,3,FALSE))
B14: Targeted support | H14: {='Diagnosis MHST'!D12:E12} -> 0 | I14: 0 | J14: =IF(H14=0,"No Data",VLOOKUP(ROUNDDOWN(H14,0),$Z$6:$AA$10,2,FALSE)) -> No Data | L14: =IF(ISNA(VLOOKUP(B14&J14,'Coaching Questions'!$D$8:$F$47,2,FALSE)),"",VLOOKUP(B14&J14,'Coaching Questions'!$D$8:$F$47,2,FALSE)) | R14: =IF(ISNA(VLOOKUP(B14&J14,'Coaching Questions'!$D$8:$F$47,3,FALSE)),"",VLOOKUP(B14&J14,'Coaching Questions'!$D$8:$F$47,3,FALSE))

Sheet Leadership & Management
B3: Mental Health Competency | H3: Self - Score | J3: Starting Point | L3: Select the 5Es level that your school intends to work towardsin this competency | U3: Exploring
U4: Emerging
B5: Leadership & Management | H5: ='Outcomes by area'!H7 -> 0 | J5: ='Outcomes by area'!J7 -> No Data | U5: Embedding
U6: Embracing
U7: Excelling
B8: ='Outcomes by area'!L7
B11: Provide the rationale to the score for this competency and identify the evidence source
B21: Looking at the key indicators (within the questions) of this competency what actions do you need to take to achieve your desired level in this competency?

Sheet Ethos & Environment
B3: Mental Health Competency | H3: Self - Score | J3: Starting Point | L3: Select the 5Es level that your school intends to work towardsin this competency | U3: Exploring
U4: Emerging
B5: Ethos & Environment | H5: ='Outcomes by area'!H8 -> 0 | J5: ='Outcomes by area'!J8 -> No Data | U5: Embedding
U6: Embracing
U7: Excelling
B8: ='Outcomes by area'!L8 -> 0
B11: Provide the rationale to the score for this competency and identify the evidence source
B21: Looking at the key indicators (within the questions) of this competency what actions do you need to take to achieve your desired level in this competency?

Sheet Curriculum, Teaching & Learning
B3: Mental Health Competency | H3: Self - Score | J3: Starting Point | L3: Select the 5Es level that your school intends to work towardsin this competency | U3: Exploring
U4: Emerging
B5: Curriculum, teaching & learning | H5: ='Outcomes by area'!H9 -> 0 | J5: ='Outcomes by area'!J9 -> No Data | U5: Embedding
U6: Embracing
U7: Excelling
B8: ='Outcomes by area'!L9
B11: Provide the rationale to the score for this competency and identify the evidence source
B21: Looking at the key indicators (within the questions) of this competency what actions do you need to take to achieve your desired level in this competency?

Sheet Student (CYP) Voice
B3: Mental Health Competency | H3: Self - Score | J3: Starting Point | L3: Select the 5Es level that your school intends to work towardsin this competency | U3: Exploring
U4: Emerging
B5: Student (CYP) Voice | H5: ='Outcomes by area'!H10 -> 0 | J5: ='Outcomes by area'!J10 -> No Data | U5: Embedding
U6: Embracing
U7: Excelling
B8: ='Outcomes by area'!L10
B11: Provide the rationale to the score for this competency and identify the evidence source
B21: Looking at the key indicators (within the questions) of this competency what actions do you need to take to achieve your desired level in this competency?

Sheet Staff Development
B3: Mental Health Competency | H3: Self - Score | J3: Starting Point | L3: Select the 5Es level that your school intends to work towardsin this competency | U3: Exploring
U4: Emerging
B5: Staff Development | H5: ='Outcomes by area'!H11 -> 0 | J5: ='Outcomes by area'!J11 -> No Data | U5: Embedding
U6: Embracing
U7: Excelling
B8: ='Outcomes by area'!L11
B11: Provide the rationale to the score for this competency and identify the evidence source
B21: Looking at the key indicators (within the questions) of this competency what actions do you need to take to achieve your desired level in this competency?

Sheet Audit & Monitor
B3: Mental Health Competency | H3: Self - Score | J3: Starting Point | L3: Select the 5Es level that your school intends to work towardsin this competency | U3: Exploring
U4: Emerging
B5: Audit & Monitor | H5: ='Outcomes by area'!H12 -> 0 | J5: ='Outcomes by area'!J12 -> No Data | U5: Embedding
U6: Embracing
U7: Excelling
B8: ='Outcomes by area'!L12
B11: Provide the rationale to the score for this competency and identify the evidence source
B21: Looking at the key indicators (within the questions) of this competency what actions do you need to take to achieve your desired level in this competency?

Sheet Parents & Carers
B3: Mental Health Competency | H3: Self - Score | J3: Starting Point | L3: Select the 5Es level that your school intends to work towardsin this competency | U3: Exploring
U4: Emerging
B5: Parents & Carers | H5: ='Outcomes by area'!H13 -> 0 | J5: ='Outcomes by area'!J13 -> No Data | U5: Embedding
U6: Embracing
U7: Excelling
B8: ='Outcomes by area'!L13
B11: Provide the rationale to the score for this competency and identify the evidence source
B21: Looking at the key indicators (within the questions) of this competency what actions do you need to take to achieve your desired level in this competency?

Sheet Targeted support
B3: Mental Health Competency | H3: Self - Score | J3: Starting Point | L3: Select the 5Es level that your school intends to work towardsin this competency | U3: Exploring
U4: Emerging
B5: Targeted support | H5: ='Outcomes by area'!H14 -> 0 | J5: ='Outcomes by area'!J14 -> No Data | U5: Embedding
U6: Embracing
U7: Excelling
B8: ='Outcomes by area'!L14
B11: Provide the rationale to the score for this competency and identify the evidence source
B21: Looking at the key indicators (within the questions) of this competency what actions do you need to take to achieve your desired level in this competency?

Sheet Coaching Questions
B8: Leadership & Management | C8: Exploring | D8: =B8&C8 -> Leadership & ManagementExploring | E8: You have identified some key starting points that will support you in developing your school’s mental health profile. Use these to build a solid foundation to develop mental health in your school. | F8: How can you start to develop a mental health strategy for your school from your exploring baseline data? What good practice do you already have in place that will help you develop and lead a school mental health strategy? How will you involve governors? Is there any training that would be useful for governors? Is your strategic mental health lead on SLT and is this role visible?
B9: Leadership & Management | C9: Emerging | D9: =B9&C9 -> Leadership & ManagementEmerging | E9: You have made plans and taken steps to develop this area. Learn from this process to understand the impact these action have had on your school. Understanding what has worked and building on it, will help you to continue to evolve and develop the mental health of your school. | F9: What plans do you already have in place to develop school mental health culture beyond emerging? What actions can you take to evolve school existing structures and processes that can incorporate the development of positive mental health? Are you using evidence based research to support the development of positive mental health?
B10: Leadership & Management | C10: Embedding | D10: =B10&C10 -> Leadership & ManagementEmbedding | E10: Considering the progress you have made so far in this area, use your understanding how you made the changes that had impact to help you embed and sustain a culture of positive mental health. | F10: What have you learned already through embedding your current culture of mental health, how can you apply this to other areas? How can you continue to develop and sustain these changes? What would these changes look like? How would you ensure these changes were visible and monitored?
B11: Leadership & Management | C11: Embracing | D11: =B11&C11 -> Leadership & ManagementEmbracing | E11: You clearly have a strong mental health culture, with measurable impacts. Continuing to make mental health a priority in your school will ensure its positive impacts are sustained over time | F11: How is supporting staff wellbeing benefiting the staff and the school? How can you monitor this? How can you share what you are doing well to reinforce your good practice?
B12: Leadership & Management | C12: Excelling | D12: =B12&C12 -> Leadership & ManagementExcelling | E12: You have taken key actions in order to develop a strong mental health and wellbeing culture within your school. | F12: How can you encourage staff apply and evolve their learning from the training undertaken to continue to develop positive mental health? What ideas do you have to support staff professional development in the areas of mental health and wellbeing? How will you further share your excelling practice nationally?
B13: Ethos & Environment | C13: Exploring | D13: =B13&C13 -> Ethos & EnvironmentExploring | E13: You are clearly interested in developing this competency of the mental health award in your school. You have identified some key starting points that will support you in developing your school’s mental health profile. Use these to build a solid foundation to develop mental health in your school. | F13: How can you start to develop a mental health strategy for your school from your exploring baseline data? What good practice do you already have in place that will help you develop and lead a school mental health strategy? How will you involve governors? How will you make explicit your commitment to a mental health strategy?
B14: Ethos & Environment | C14: Emerging | D14: =B14&C14 -> Ethos & EnvironmentEmerging | E14: Learn from this process to understand the impact these action have had on your school. Understanding what has worked and building on it, will help you to continue to evolve and develop the mental health of your school. | F14: What plans do you already have in place to develop school mental health culture beyond emerging? What actions can you take to evolve school existing structures and processes that can incorporate the development of positive mental health? How can you develop an understanding of mental health throughout the school?
B15: Ethos & Environment | C15: Embedding | D15: =B15&C15 -> Ethos & EnvironmentEmbedding | E15: You have started to see some definable impacts in this competency of the mental health awareness in your school. Understanding how you made the changes that had impact will help you embed and sustain a culture of positive mental health. | F15: What have you learned already through embedding your current culture of mental health, how can you apply this to other areas? How can you continue to develop and sustain these changes?
B16: Ethos & Environment | C16: Embracing | D16: =B16&C16 -> Ethos & EnvironmentEmbracing | E16: You clearly have a strong mental health culture, with measurable impacts that is shared with others within your school community. Continuing to make mental health a priority in your school and wider community will ensure its positive impacts are sustained over time | F16: How is supporting staff wellbeing benefiting the staff and the school? How can you share what you are doing well to reinforce your good practice? How are you sharing whole school mental health and wellbeing developments in the wider community?
B17: Ethos & Environment | C17: Excelling | D17: =B17&C17 -> Ethos & EnvironmentExcelling | E17: You are excelling in school mental health and wellbeing. You demonstrate sustainable impact that you are proud to share at a local level. Mental Health and Wellbeing is evident throughout the school and is embedded in whole school policies and practice. | F17: How can you encourage staff to apply and evolve their learning from the training undertaken to continue to develop positive mental health? What ideas do you have to support staff professional development in the areas of mental health and wellbeing? How will you further share your excelling practice nationally?
B18: Curriculum, teaching & learning | C18: Exploring | D18: =B18&C18 -> Curriculum, teaching & learning Exploring | E18: You are clearly interested in developing this competency of the mental health award in your school. You have identified some key starting points that will support you in developing your school’s mental health profile. Use these to build a solid foundation to develop mental health in your school. | F18: How can you start to develop a mental health strategy for your school from your exploring baseline? What good practice do you already have in place that will help you develop and lead a school mental health strategy? How will you involve governors?
B19: Curriculum, teaching & learning | C19: Emerging | D19: =B19&C19 -> Curriculum, teaching & learning Emerging | E19: You have made plans and taken steps to develop this area in your school. Learn from this process to understand the impact these action have had on your school. Understanding what has worked and building on it, will help you to continue to evolve and develop the mental health of your school. | F19: What plans do you already have in place to develop school mental health culture beyond emerging? What actions can you take to evolve school existing structures and processes that can incorporate the development of positive mental health? How can you ensure that assembly content, tutor content and PSHE content around mental health and wellbeing are co-ordinated
... B47: Targeted support | C47: Excelling | D47: =B47&C47 -> Targeted supportExcelling | E47: You are accessing and sharing information through the EMHWB events. You are using feedback from interventions and projects to support young people in school and provide strategies for staff to use within lessons and around school. | F47: Information from EMHWB events are shared throughout school and training identified, in order to develop a staff team who are well skilled within mental health and wellbeing approaches and support

Sheet Action Plan
A1: When identifying the areas for development to go into this plan, consider the areas that you identified were not in place when answering the questions in your review.
B4: Key Areas | C4: Actions | D4: Responsible | E4: Impact | F4: Review Date
A5: Leadership & Management
A6: Ethos & Environment
A7: Curriculum and Learning
A8: Child Voice
A9: Staff Development
A10: Identifying need and monitoring impact
A11: Parents and Carers
A12: Targeted Support
